Package: Moonlight2R Version: 1.5.4 Command: /home/biocbuild/bbs-3.21-bioc/R/bin/R CMD build --keep-empty-dirs --no-resave-data Moonlight2R StartedAt: 2025-02-09 18:13:17 -0500 (Sun, 09 Feb 2025) EndedAt: 2025-02-09 18:19:20 -0500 (Sun, 09 Feb 2025) EllapsedTime: 363.3 seconds RetCode: 0 Status: OK PackageFile: Moonlight2R_1.5.4.tar.gz PackageFileSize: 4.822 MiB