Package: Moonlight2R Version: 1.5.4 Command: /home/biocbuild/bbs-3.21-bioc/R/bin/R CMD check --install=check:Moonlight2R.install-out.txt --library=/home/biocbuild/bbs-3.21-bioc/R/site-library --timings Moonlight2R_1.5.4.tar.gz StartedAt: 2025-02-05 00:29:10 -0500 (Wed, 05 Feb 2025) EndedAt: 2025-02-05 00:45:45 -0500 (Wed, 05 Feb 2025) EllapsedTime: 994.3 seconds RetCode: 0 Status: OK CheckDir: Moonlight2R.Rcheck Warnings: 0