Package: Moonlight2R Version: 1.5.4 Command: /home/biocbuild/bbs-3.21-bioc/R/bin/R CMD INSTALL Moonlight2R StartedAt: 2025-02-04 15:45:43 -0500 (Tue, 04 Feb 2025) EndedAt: 2025-02-04 15:46:34 -0500 (Tue, 04 Feb 2025) EllapsedTime: 51.2 seconds RetCode: 0 Status: OK