Package: Moonlight2R Version: 1.5.4 Command: chmod a+r Moonlight2R -R && E:\biocbuild\bbs-3.21-bioc\R\bin\R.exe CMD build --keep-empty-dirs --no-resave-data Moonlight2R StartedAt: 2025-02-09 20:01:42 -0500 (Sun, 09 Feb 2025) EndedAt: 2025-02-09 20:09:52 -0500 (Sun, 09 Feb 2025) EllapsedTime: 489.3 seconds RetCode: 0 Status: OK PackageFile: Moonlight2R_1.5.4.tar.gz PackageFileSize: 4.803 MiB