Package: Moonlight2R Version: 1.5.4 Command: E:\biocbuild\bbs-3.21-bioc\R\bin\R.exe CMD INSTALL Moonlight2R StartedAt: 2025-02-04 16:39:00 -0500 (Tue, 04 Feb 2025) EndedAt: 2025-02-04 16:40:19 -0500 (Tue, 04 Feb 2025) EllapsedTime: 79.2 seconds RetCode: 0 Status: OK