Package: MoonlightR Version: 1.33.0 Command: rm -rf MoonlightR.buildbin-libdir && mkdir MoonlightR.buildbin-libdir && /Users/biocbuild/BBS/utils/build-universal.sh MoonlightR_1.33.0.tar.gz /Library/Frameworks/R.framework/Resources/bin/R MoonlightR.buildbin-libdir StartedAt: 2025-02-09 22:21:54 -0500 (Sun, 09 Feb 2025) EndedAt: 2025-02-09 22:22:55 -0500 (Sun, 09 Feb 2025) EllapsedTime: 60.1 seconds RetCode: 0 Status: OK PackageFile: MoonlightR_1.33.0.tgz PackageFileSize: 9.928 MiB