Package: MoonlightR Version: 1.33.0 Command: /home/biocbuild/R/R/bin/R CMD build --keep-empty-dirs --no-resave-data MoonlightR StartedAt: 2025-01-29 00:30:50 -0000 (Wed, 29 Jan 2025) EndedAt: 2025-01-29 00:33:29 -0000 (Wed, 29 Jan 2025) EllapsedTime: 159.1 seconds RetCode: 0 Status: OK PackageFile: MoonlightR_1.33.0.tar.gz PackageFileSize: 11.61 MiB