Package: MoonlightR Version: 1.33.0 Command: /home/biocbuild/R/R/bin/R CMD check --install=check:MoonlightR.install-out.txt --library=/home/biocbuild/R/R/site-library --no-vignettes --timings MoonlightR_1.33.0.tar.gz StartedAt: 2025-01-28 12:42:37 -0000 (Tue, 28 Jan 2025) EndedAt: 2025-01-28 12:50:19 -0000 (Tue, 28 Jan 2025) EllapsedTime: 461.6 seconds RetCode: 0 Status: WARNINGS CheckDir: MoonlightR.Rcheck Warnings: 5