Package: MoonlightR Version: 1.33.0 Command: rm -rf MoonlightR.buildbin-libdir && mkdir MoonlightR.buildbin-libdir && /Users/biocbuild/BBS/utils/build-universal.sh MoonlightR_1.33.0.tar.gz /Library/Frameworks/R.framework/Resources/bin/R MoonlightR.buildbin-libdir StartedAt: 2025-02-10 01:03:43 -0500 (Mon, 10 Feb 2025) EndedAt: 2025-02-10 01:05:14 -0500 (Mon, 10 Feb 2025) EllapsedTime: 91.0 seconds RetCode: 0 Status: OK PackageFile: MoonlightR_1.33.0.tgz PackageFileSize: 9.926 MiB