Package: MoonlightR Version: 1.33.0 Command: /Library/Frameworks/R.framework/Resources/bin/R CMD build --keep-empty-dirs --no-resave-data MoonlightR StartedAt: 2025-02-09 17:31:36 -0500 (Sun, 09 Feb 2025) EndedAt: 2025-02-09 17:35:23 -0500 (Sun, 09 Feb 2025) EllapsedTime: 227.0 seconds RetCode: 0 Status: OK PackageFile: MoonlightR_1.33.0.tar.gz PackageFileSize: 15.56 MiB