Package: MoonlightR Version: 1.33.0 Command: E:\biocbuild\bbs-3.21-bioc\R\bin\R.exe CMD check --no-multiarch --install=check:MoonlightR.install-out.txt --library=E:\biocbuild\bbs-3.21-bioc\R\library --no-vignettes --timings MoonlightR_1.33.0.tar.gz StartedAt: 2025-02-10 03:08:32 -0500 (Mon, 10 Feb 2025) EndedAt: 2025-02-10 03:14:30 -0500 (Mon, 10 Feb 2025) EllapsedTime: 358.1 seconds RetCode: 0 Status: OK CheckDir: MoonlightR.Rcheck Warnings: 0