Package: MoonlightR Version: 1.33.0 Command: E:\biocbuild\bbs-3.21-bioc\R\bin\R.exe CMD INSTALL MoonlightR StartedAt: 2025-02-09 16:14:17 -0500 (Sun, 09 Feb 2025) EndedAt: 2025-02-09 16:15:08 -0500 (Sun, 09 Feb 2025) EllapsedTime: 50.9 seconds RetCode: 0 Status: OK