Package: MotifDb Version: 1.49.0 Command: rm -rf MotifDb.buildbin-libdir && mkdir MotifDb.buildbin-libdir && /Users/biocbuild/BBS/utils/build-universal.sh MotifDb_1.49.0.tar.gz /Library/Frameworks/R.framework/Resources/bin/R MotifDb.buildbin-libdir StartedAt: 2025-02-09 22:22:02 -0500 (Sun, 09 Feb 2025) EndedAt: 2025-02-09 22:22:19 -0500 (Sun, 09 Feb 2025) EllapsedTime: 17.3 seconds RetCode: 0 Status: OK PackageFile: MotifDb_1.49.0.tgz PackageFileSize: 3.611 MiB