Package: MotifDb Version: 1.49.0 Command: /Library/Frameworks/R.framework/Resources/bin/R CMD INSTALL MotifDb StartedAt: 2025-02-09 15:09:48 -0500 (Sun, 09 Feb 2025) EndedAt: 2025-02-09 15:10:03 -0500 (Sun, 09 Feb 2025) EllapsedTime: 15.6 seconds RetCode: 0 Status: OK