Package: MotifDb Version: 1.49.0 Command: /home/biocbuild/R/R/bin/R CMD build --keep-empty-dirs --no-resave-data MotifDb StartedAt: 2025-01-29 00:33:29 -0000 (Wed, 29 Jan 2025) EndedAt: 2025-01-29 00:34:49 -0000 (Wed, 29 Jan 2025) EllapsedTime: 80.0 seconds RetCode: 0 Status: OK PackageFile: MotifDb_1.49.0.tar.gz PackageFileSize: 3.225 MiB