Package: MotifDb Version: 1.49.0 Command: /Library/Frameworks/R.framework/Resources/bin/R CMD check --install=check:MotifDb.install-out.txt --library=/Library/Frameworks/R.framework/Resources/library --no-vignettes --timings MotifDb_1.49.0.tar.gz StartedAt: 2025-02-12 21:51:11 -0500 (Wed, 12 Feb 2025) EndedAt: 2025-02-12 21:57:07 -0500 (Wed, 12 Feb 2025) EllapsedTime: 355.3 seconds RetCode: 0 Status: WARNINGS CheckDir: MotifDb.Rcheck Warnings: 2