Package: MotifDb Version: 1.49.0 Command: E:\biocbuild\bbs-3.21-bioc\R\bin\R.exe CMD check --no-multiarch --install=check:MotifDb.install-out.txt --library=E:\biocbuild\bbs-3.21-bioc\R\library --no-vignettes --timings MotifDb_1.49.0.tar.gz StartedAt: 2025-02-13 03:21:31 -0500 (Thu, 13 Feb 2025) EndedAt: 2025-02-13 03:27:52 -0500 (Thu, 13 Feb 2025) EllapsedTime: 381.3 seconds RetCode: 0 Status: WARNINGS CheckDir: MotifDb.Rcheck Warnings: 2