Package: MotifPeeker Version: 0.99.13 Command: /Library/Frameworks/R.framework/Resources/bin/R CMD INSTALL MotifPeeker StartedAt: 2025-02-09 15:24:50 -0500 (Sun, 09 Feb 2025) EndedAt: 2025-02-09 15:25:07 -0500 (Sun, 09 Feb 2025) EllapsedTime: 16.7 seconds RetCode: 0 Status: OK