Package: MotifPeeker Version: 0.99.13 Command: /home/biocbuild/R/R/bin/R CMD build --keep-empty-dirs --no-resave-data MotifPeeker StartedAt: 2025-01-29 00:34:48 -0000 (Wed, 29 Jan 2025) EndedAt: 2025-01-29 00:38:16 -0000 (Wed, 29 Jan 2025) EllapsedTime: 208.1 seconds RetCode: 0 Status: OK PackageFile: MotifPeeker_0.99.13.tar.gz PackageFileSize: 3.403 MiB