Package: MotifPeeker Version: 0.99.13 Command: rm -rf MotifPeeker.buildbin-libdir && mkdir MotifPeeker.buildbin-libdir && /Users/biocbuild/BBS/utils/build-universal.sh MotifPeeker_0.99.13.tar.gz /Library/Frameworks/R.framework/Resources/bin/R MotifPeeker.buildbin-libdir StartedAt: 2025-02-10 01:04:02 -0500 (Mon, 10 Feb 2025) EndedAt: 2025-02-10 01:04:59 -0500 (Mon, 10 Feb 2025) EllapsedTime: 57.6 seconds RetCode: 0 Status: OK PackageFile: MotifPeeker_0.99.13.tgz PackageFileSize: 3.502 MiB