Package: MotifPeeker Version: 0.99.13 Command: /Library/Frameworks/R.framework/Resources/bin/R CMD build --keep-empty-dirs --no-resave-data MotifPeeker StartedAt: 2025-02-09 17:34:29 -0500 (Sun, 09 Feb 2025) EndedAt: 2025-02-09 17:40:30 -0500 (Sun, 09 Feb 2025) EllapsedTime: 360.6 seconds RetCode: 0 Status: OK PackageFile: MotifPeeker_0.99.13.tar.gz PackageFileSize: 3.351 MiB