Package: MotifPeeker Version: 0.99.13 Command: /Library/Frameworks/R.framework/Resources/bin/R CMD check --install=check:MotifPeeker.install-out.txt --library=/Library/Frameworks/R.framework/Resources/library --no-vignettes --timings MotifPeeker_0.99.13.tar.gz StartedAt: 2025-02-09 22:05:00 -0500 (Sun, 09 Feb 2025) EndedAt: 2025-02-09 22:12:00 -0500 (Sun, 09 Feb 2025) EllapsedTime: 420.7 seconds RetCode: 1 Status: ERROR CheckDir: MotifPeeker.Rcheck Warnings: NA