Package: MotifPeeker Version: 0.99.13 Command: /Library/Frameworks/R.framework/Resources/bin/R CMD INSTALL MotifPeeker StartedAt: 2025-02-09 15:38:56 -0500 (Sun, 09 Feb 2025) EndedAt: 2025-02-09 15:39:50 -0500 (Sun, 09 Feb 2025) EllapsedTime: 53.8 seconds RetCode: 0 Status: OK