Package: MotifPeeker Version: 0.99.13 Command: /home/biocbuild/bbs-3.21-bioc/R/bin/R CMD INSTALL MotifPeeker StartedAt: 2025-02-09 15:27:26 -0500 (Sun, 09 Feb 2025) EndedAt: 2025-02-09 15:28:07 -0500 (Sun, 09 Feb 2025) EllapsedTime: 40.9 seconds RetCode: 0 Status: OK