Package: MsBackendMetaboLights Version: 1.1.0 Command: /home/biocbuild/R/R/bin/R CMD build --keep-empty-dirs --no-resave-data MsBackendMetaboLights StartedAt: 2025-01-29 00:38:11 -0000 (Wed, 29 Jan 2025) EndedAt: 2025-01-29 00:39:15 -0000 (Wed, 29 Jan 2025) EllapsedTime: 64.0 seconds RetCode: 0 Status: OK PackageFile: MsBackendMetaboLights_1.1.0.tar.gz PackageFileSize: 374.7 KiB