Package: MsBackendMetaboLights Version: 1.1.0 Command: /home/biocbuild/R/R/bin/R CMD check --install=check:MsBackendMetaboLights.install-out.txt --library=/home/biocbuild/R/R/site-library --no-vignettes --timings MsBackendMetaboLights_1.1.0.tar.gz StartedAt: 2025-01-28 12:51:48 -0000 (Tue, 28 Jan 2025) EndedAt: 2025-01-28 13:10:41 -0000 (Tue, 28 Jan 2025) EllapsedTime: 1132.8 seconds RetCode: 1 Status: ERROR CheckDir: MsBackendMetaboLights.Rcheck Warnings: NA