Package: MsBackendMetaboLights Version: 1.1.0 Command: rm -rf MsBackendMetaboLights.buildbin-libdir && mkdir MsBackendMetaboLights.buildbin-libdir && E:\biocbuild\bbs-3.21-bioc\R\bin\R.exe CMD INSTALL --build --library=MsBackendMetaboLights.buildbin-libdir MsBackendMetaboLights_1.1.0.tar.gz StartedAt: 2025-02-10 08:12:53 -0500 (Mon, 10 Feb 2025) EndedAt: 2025-02-10 08:14:09 -0500 (Mon, 10 Feb 2025) EllapsedTime: 75.5 seconds RetCode: 0 Status: OK PackageFile: MsBackendMetaboLights_1.1.0.zip PackageFileSize: 353.2 KiB