Package: MsBackendMetaboLights Version: 1.1.0 Command: E:\biocbuild\bbs-3.21-bioc\R\bin\R.exe CMD INSTALL MsBackendMetaboLights StartedAt: 2025-02-09 15:40:39 -0500 (Sun, 09 Feb 2025) EndedAt: 2025-02-09 15:41:18 -0500 (Sun, 09 Feb 2025) EllapsedTime: 39.4 seconds RetCode: 0 Status: OK