Package: MsBackendMgf Version: 1.15.2 Command: /Library/Frameworks/R.framework/Resources/bin/R CMD INSTALL MsBackendMgf StartedAt: 2025-02-09 15:09:13 -0500 (Sun, 09 Feb 2025) EndedAt: 2025-02-09 15:09:16 -0500 (Sun, 09 Feb 2025) EllapsedTime: 3.7 seconds RetCode: 0 Status: OK