Package: MsBackendMgf Version: 1.15.2 Command: /home/biocbuild/R/R/bin/R CMD check --install=check:MsBackendMgf.install-out.txt --library=/home/biocbuild/R/R/site-library --no-vignettes --timings MsBackendMgf_1.15.2.tar.gz StartedAt: 2025-01-28 12:52:00 -0000 (Tue, 28 Jan 2025) EndedAt: 2025-01-28 12:53:47 -0000 (Tue, 28 Jan 2025) EllapsedTime: 107.1 seconds RetCode: 0 Status: OK CheckDir: MsBackendMgf.Rcheck Warnings: 0