Package: MsBackendMgf Version: 1.15.2 Command: /home/biocbuild/R/R/bin/R CMD INSTALL MsBackendMgf StartedAt: 2025-01-29 19:50:53 -0000 (Wed, 29 Jan 2025) EndedAt: 2025-01-29 19:51:06 -0000 (Wed, 29 Jan 2025) EllapsedTime: 12.7 seconds RetCode: 0 Status: OK