Package: MsBackendMgf Version: 1.15.2 Command: rm -rf MsBackendMgf.buildbin-libdir && mkdir MsBackendMgf.buildbin-libdir && /Users/biocbuild/BBS/utils/build-universal.sh MsBackendMgf_1.15.2.tar.gz /Library/Frameworks/R.framework/Resources/bin/R MsBackendMgf.buildbin-libdir StartedAt: 2025-02-10 01:04:14 -0500 (Mon, 10 Feb 2025) EndedAt: 2025-02-10 01:04:30 -0500 (Mon, 10 Feb 2025) EllapsedTime: 16.2 seconds RetCode: 0 Status: OK PackageFile: MsBackendMgf_1.15.2.tgz PackageFileSize: 369.3 KiB