Package: MsBackendMgf Version: 1.15.2 Command: /Library/Frameworks/R.framework/Resources/bin/R CMD check --install=check:MsBackendMgf.install-out.txt --library=/Library/Frameworks/R.framework/Resources/library --no-vignettes --timings MsBackendMgf_1.15.2.tar.gz StartedAt: 2025-02-09 22:06:11 -0500 (Sun, 09 Feb 2025) EndedAt: 2025-02-09 22:07:43 -0500 (Sun, 09 Feb 2025) EllapsedTime: 92.2 seconds RetCode: 0 Status: OK CheckDir: MsBackendMgf.Rcheck Warnings: 0