Package: MsBackendMgf Version: 1.15.2 Command: rm -rf MsBackendMgf.buildbin-libdir && mkdir MsBackendMgf.buildbin-libdir && E:\biocbuild\bbs-3.21-bioc\R\bin\R.exe CMD INSTALL --build --library=MsBackendMgf.buildbin-libdir MsBackendMgf_1.15.2.tar.gz StartedAt: 2025-02-10 08:12:55 -0500 (Mon, 10 Feb 2025) EndedAt: 2025-02-10 08:13:16 -0500 (Mon, 10 Feb 2025) EllapsedTime: 21.3 seconds RetCode: 0 Status: OK PackageFile: MsBackendMgf_1.15.2.zip PackageFileSize: 372.3 KiB