Package: MsBackendMgf Version: 1.15.2 Command: chmod a+r MsBackendMgf -R && E:\biocbuild\bbs-3.21-bioc\R\bin\R.exe CMD build --keep-empty-dirs --no-resave-data MsBackendMgf StartedAt: 2025-02-09 20:06:30 -0500 (Sun, 09 Feb 2025) EndedAt: 2025-02-09 20:07:12 -0500 (Sun, 09 Feb 2025) EllapsedTime: 42.2 seconds RetCode: 0 Status: OK PackageFile: MsBackendMgf_1.15.2.tar.gz PackageFileSize: 328.2 KiB