Package: MsBackendMgf Version: 1.15.2 Command: E:\biocbuild\bbs-3.21-bioc\R\bin\R.exe CMD check --no-multiarch --install=check:MsBackendMgf.install-out.txt --library=E:\biocbuild\bbs-3.21-bioc\R\library --no-vignettes --timings MsBackendMgf_1.15.2.tar.gz StartedAt: 2025-02-10 03:14:59 -0500 (Mon, 10 Feb 2025) EndedAt: 2025-02-10 03:16:43 -0500 (Mon, 10 Feb 2025) EllapsedTime: 103.6 seconds RetCode: 0 Status: OK CheckDir: MsBackendMgf.Rcheck Warnings: 0