Package: MsBackendMsp Version: 1.11.1 Maintainer: Johannes Rainer MaintainerEmail: Johannes.Rainer at eurac.edu git_url: https://git.bioconductor.org/packages/MsBackendMsp git_branch: devel git_last_commit: 75db366 git_last_commit_date: 2025-01-17 02:33:12 -0500 (Fri, 17 Jan 2025)