Package: MsBackendMsp Version: 1.11.1 Command: rm -rf MsBackendMsp.buildbin-libdir && mkdir MsBackendMsp.buildbin-libdir && /Users/biocbuild/BBS/utils/build-universal.sh MsBackendMsp_1.11.1.tar.gz /Library/Frameworks/R.framework/Resources/bin/R MsBackendMsp.buildbin-libdir StartedAt: 2025-02-03 22:58:09 -0500 (Mon, 03 Feb 2025) EndedAt: 2025-02-03 22:58:14 -0500 (Mon, 03 Feb 2025) EllapsedTime: 5.1 seconds RetCode: 0 Status: OK PackageFile: MsBackendMsp_1.11.1.tgz PackageFileSize: 365 KiB