Package: MsBackendMsp Version: 1.11.1 Command: /Library/Frameworks/R.framework/Resources/bin/R CMD build --keep-empty-dirs --no-resave-data MsBackendMsp StartedAt: 2025-02-09 17:02:47 -0500 (Sun, 09 Feb 2025) EndedAt: 2025-02-09 17:02:54 -0500 (Sun, 09 Feb 2025) EllapsedTime: 7.1 seconds RetCode: 0 Status: OK PackageFile: MsBackendMsp_1.11.1.tar.gz PackageFileSize: 324.8 KiB