Package: MsBackendMsp Version: 1.11.1 Command: /home/biocbuild/R/R/bin/R CMD build --keep-empty-dirs --no-resave-data MsBackendMsp StartedAt: 2025-01-29 00:38:16 -0000 (Wed, 29 Jan 2025) EndedAt: 2025-01-29 00:38:39 -0000 (Wed, 29 Jan 2025) EllapsedTime: 23.0 seconds RetCode: 0 Status: OK PackageFile: MsBackendMsp_1.11.1.tar.gz PackageFileSize: 391.5 KiB