Package: MsBackendMsp Version: 1.11.1 Command: /home/biocbuild/R/R/bin/R CMD check --install=check:MsBackendMsp.install-out.txt --library=/home/biocbuild/R/R/site-library --no-vignettes --timings MsBackendMsp_1.11.1.tar.gz StartedAt: 2025-01-28 12:52:10 -0000 (Tue, 28 Jan 2025) EndedAt: 2025-01-28 12:54:01 -0000 (Tue, 28 Jan 2025) EllapsedTime: 111.1 seconds RetCode: 0 Status: OK CheckDir: MsBackendMsp.Rcheck Warnings: 0