Package: MsBackendMsp Version: 1.11.1 Command: /Library/Frameworks/R.framework/Resources/bin/R CMD check --install=check:MsBackendMsp.install-out.txt --library=/Library/Frameworks/R.framework/Resources/library --no-vignettes --timings MsBackendMsp_1.11.1.tar.gz StartedAt: 2025-02-09 22:06:19 -0500 (Sun, 09 Feb 2025) EndedAt: 2025-02-09 22:08:01 -0500 (Sun, 09 Feb 2025) EllapsedTime: 101.8 seconds RetCode: 0 Status: OK CheckDir: MsBackendMsp.Rcheck Warnings: 0