Package: MsBackendMsp Version: 1.11.1 Command: /Library/Frameworks/R.framework/Resources/bin/R CMD INSTALL MsBackendMsp StartedAt: 2025-02-03 15:19:33 -0500 (Mon, 03 Feb 2025) EndedAt: 2025-02-03 15:19:46 -0500 (Mon, 03 Feb 2025) EllapsedTime: 13.1 seconds RetCode: 0 Status: OK