Package: MsBackendMsp Version: 1.11.1 Command: /home/biocbuild/bbs-3.21-bioc/R/bin/R CMD build --keep-empty-dirs --no-resave-data MsBackendMsp StartedAt: 2025-02-09 18:17:15 -0500 (Sun, 09 Feb 2025) EndedAt: 2025-02-09 18:17:31 -0500 (Sun, 09 Feb 2025) EllapsedTime: 16.0 seconds RetCode: 0 Status: OK PackageFile: MsBackendMsp_1.11.1.tar.gz PackageFileSize: 324.8 KiB