Package: MsBackendMsp Version: 1.11.1 Command: /home/biocbuild/bbs-3.21-bioc/R/bin/R CMD INSTALL MsBackendMsp StartedAt: 2025-02-09 15:14:22 -0500 (Sun, 09 Feb 2025) EndedAt: 2025-02-09 15:14:30 -0500 (Sun, 09 Feb 2025) EllapsedTime: 8.7 seconds RetCode: 0 Status: OK