Package: MsBackendMsp Version: 1.11.1 Command: E:\biocbuild\bbs-3.21-bioc\R\bin\R.exe CMD INSTALL MsBackendMsp StartedAt: 2025-02-03 15:55:16 -0500 (Mon, 03 Feb 2025) EndedAt: 2025-02-03 15:55:31 -0500 (Mon, 03 Feb 2025) EllapsedTime: 15.3 seconds RetCode: 0 Status: OK