Package: MsBackendRawFileReader Version: 1.13.1 Maintainer: Christian Panse MaintainerEmail: cp at fgcz.ethz.ch git_url: https://git.bioconductor.org/packages/MsBackendRawFileReader git_branch: devel git_last_commit: d2c3762 git_last_commit_date: 2024-11-07 01:23:44 -0500 (Thu, 07 Nov 2024)