Package: MsBackendRawFileReader Version: 1.13.1 Command: rm -rf MsBackendRawFileReader.buildbin-libdir && mkdir MsBackendRawFileReader.buildbin-libdir && /Users/biocbuild/BBS/utils/build-universal.sh MsBackendRawFileReader_1.13.1.tar.gz /Library/Frameworks/R.framework/Resources/bin/R MsBackendRawFileReader.buildbin-libdir StartedAt: 2025-02-09 22:22:24 -0500 (Sun, 09 Feb 2025) EndedAt: 2025-02-09 22:22:29 -0500 (Sun, 09 Feb 2025) EllapsedTime: 5.1 seconds RetCode: 0 Status: OK PackageFile: MsBackendRawFileReader_1.13.1.tgz PackageFileSize: 1.251 MiB