Package: MsBackendRawFileReader Version: 1.13.1 Command: /Library/Frameworks/R.framework/Resources/bin/R CMD check --install=check:MsBackendRawFileReader.install-out.txt --library=/Library/Frameworks/R.framework/Resources/library --no-vignettes --timings MsBackendRawFileReader_1.13.1.tar.gz StartedAt: 2025-02-09 20:17:34 -0500 (Sun, 09 Feb 2025) EndedAt: 2025-02-09 20:19:41 -0500 (Sun, 09 Feb 2025) EllapsedTime: 126.5 seconds RetCode: 0 Status: OK CheckDir: MsBackendRawFileReader.Rcheck Warnings: 0