Package: MsBackendRawFileReader Version: 1.13.1 Command: /home/biocbuild/R/R/bin/R CMD INSTALL MsBackendRawFileReader StartedAt: 2025-01-29 19:46:41 -0000 (Wed, 29 Jan 2025) EndedAt: 2025-01-29 19:46:55 -0000 (Wed, 29 Jan 2025) EllapsedTime: 14.4 seconds RetCode: 0 Status: OK